BEGIN:VCALENDAR
VERSION:2.0
PRODID:-//SVP Bauma //NONSGML Events //EN
CALSCALE:GREGORIAN
X-WR-CALNAME:SVP Bauma
BEGIN:VEVENT
CREATED:20241118T115152Z
UID:2006
DTEND:20250930T193000
DTSTART:20250930T193000
DTSTAMP:20260421T085756Z
LOCATION:
DESCRIPTION:Interessenten melden sich bei Manuela Burkhalter, Präsidentin
SUMMARY:Kantonale Delegiertenversammlung SVP Kanton Zürich
ORGANIZER:
URL;VALUE=URI:https://www.svp-bauma.ch/termine/kantonale-delegiertenversammlung-svp-kanton-zuerich-3/
TRANSP:OPAQUE
END:VEVENT
END:VCALENDAR
