BEGIN:VCALENDAR
VERSION:2.0
PRODID:-//SVP Bauma //NONSGML Events //EN
CALSCALE:GREGORIAN
X-WR-CALNAME:SVP Bauma
BEGIN:VEVENT
CREATED:20240307T123149Z
UID:1836
DTEND:20240817T143000
DTSTART:20240817T103000
DTSTAMP:20260420T023751Z
LOCATION:auf Anfrage
DESCRIPTION:Interessierte melden sich bei Paul von Euw
SUMMARY:Delegiertenversammlung SVP Schweiz
ORGANIZER:SVP Schweiz
URL;VALUE=URI:https://www.svp-bauma.ch/termine/delegiertenversammlung-svp-schweiz-2/
TRANSP:OPAQUE
END:VEVENT
END:VCALENDAR
